BEGIN:VCALENDAR
VERSION:2.0
PRODID:-//ChamberMaster//Event Calendar 2.0//EN
METHOD:PUBLISH
X-PUBLISHED-TTL:P3D
REFRESH-INTERVAL:P3D
CALSCALE:GREGORIAN
BEGIN:VEVENT
DTSTART:20260515T230000Z
DTEND:20260518T010000Z
X-MICROSOFT-CDO-ALLDAYEVENT:FALSE
SUMMARY:Pompano Players presents: Side by Side by Sondheim
DESCRIPTION:Laugh\, cry\, and fall in love with the music and lyrics of a true Broadway legend in 'Side by Side by Sondheim'. This Tony Award-winning revue is both a perfect introduction to Stephen Sondheim's work and a must-see for devoted fans. Showcasing some of his most unforgettable songs\, this elegant and unpretentious production highlights the timeless brilliance of a composer who has shaped musical theatre for over fifty years.\n\n\n\nSondheim's timeless songs capture distinct eras and places yet resonate universally\, brought together in this award-winning revue for one magical evening. Featuring music from Company\, Follies\, A Little Night Music\, A Funny Thing Happened on the Way to the Forum\, Anyone Can Whistle\, and Pacific Overtures along with classics written alongside Leonard Bernstein\, Jule Styne\, and Richard Rodgers this dazzling collection of Sondheim's best-known songs delivers a magical evening of storytelling\, wit\, and soaring emotion!\n\n\n\nShowtimes\n\nWeek One:\n\nMay 8\, 7:00pm\n\nMay 9\, 2:00pm and 7:00pm\n\nMay 10\, 2:00pm\n\n\n\nWeek Two:\n\nMay 15\, 7:00pm\n\nMay 16\, 2:00pm and 7:00pm\n\nMay 17\, 2:00pmHappens on the following Dates:May 8\, 2026\, 7:00pm to 9:00pm Timezone: Eastern Time (US & Canada)\n\nMay 9\, 2026\, 2:00pm to 4:00pm Timezone: Eastern Time (US & Canada)\n\nMay 9\, 2026\, 7:00pm to 9:00pm Timezone: Eastern Time (US & Canada)\n\nMay 10\, 2026\, 2:00pm to 4:00pm Timezone: Eastern Time (US & Canada)\n\nMay 15\, 2026\, 7:00pm to 9:00pm Timezone: Eastern Time (US & Canada)\n\nMay 16\, 2026\, 2:00pm to 4:00pm Timezone: Eastern Time (US & Canada)\n\nMay 16\, 2026\, 7:00pm to 9:00pm Timezone: Eastern Time (US & Canada)\n\nMay 17\, 2026\, 2:00pm to 4:00pm Timezone: Eastern Time (US & Canada)
X-ALT-DESC;FMTTYPE=text/html:<br />\nLaugh\, cry\, and fall in love with the music and lyrics of a true Broadway legend in &lsquo\;Side by Side by Sondheim&rsquo\;. This Tony Award-winning revue is both a perfect introduction to Stephen Sondheim&rsquo\;s work and a must-see for devoted fans. Showcasing some of his most unforgettable songs\, this elegant and unpretentious production highlights the timeless brilliance of a composer who has shaped musical theatre for over fifty years.<br />\n<br />\nSondheim&#39\;s timeless songs capture distinct eras and places yet resonate universally\, brought together in this award-winning revue for one magical evening. Featuring music from Company\, Follies\, A Little Night Music\, A Funny Thing Happened on the Way to the Forum\, Anyone Can Whistle\, and Pacific Overtures&mdash\;along with classics written alongside Leonard Bernstein\, Jule Styne\, and Richard Rodgers&mdash\;this dazzling collection of Sondheim&rsquo\;s best-known songs delivers a magical evening of storytelling\, wit\, and soaring emotion!<br />\n<br />\nShowtimes<br />\nWeek One:<br />\nMay 8\, 7:00pm<br />\nMay 9\, 2:00pm and 7:00pm<br />\nMay 10\, 2:00pm<br />\n<br />\nWeek Two:<br />\nMay 15\, 7:00pm<br />\nMay 16\, 2:00pm and 7:00pm<br />\nMay 17\, 2:00pmHappens on the following Dates:May 8\, 2026\, 7:00pm to 9:00pm Timezone: Eastern Time (US &amp\; Canada)<br />\nMay 9\, 2026\, 2:00pm to 4:00pm Timezone: Eastern Time (US &amp\; Canada)<br />\nMay 9\, 2026\, 7:00pm to 9:00pm Timezone: Eastern Time (US &amp\; Canada)<br />\nMay 10\, 2026\, 2:00pm to 4:00pm Timezone: Eastern Time (US &amp\; Canada)<br />\nMay 15\, 2026\, 7:00pm to 9:00pm Timezone: Eastern Time (US &amp\; Canada)<br />\nMay 16\, 2026\, 2:00pm to 4:00pm Timezone: Eastern Time (US &amp\; Canada)<br />\nMay 16\, 2026\, 7:00pm to 9:00pm Timezone: Eastern Time (US &amp\; Canada)<br />\nMay 17\, 2026\, 2:00pm to 4:00pm Timezone: Eastern Time (US &amp\; Canada)<br />\n<br />\n&nbsp\;
LOCATION:Pompano Beach Cultural Center\, 50 West Atlantic Boulevard Suite 1\, Pompano Beach\, FL 33060
UID:e.2139.43282
SEQUENCE:3
DTSTAMP:20260420T104904Z
URL:https://business.gogayfortlauderdale.com/events/details/pompano-players-presents-side-by-side-by-sondheim-43282
END:VEVENT

END:VCALENDAR
