BEGIN:VCALENDAR
VERSION:2.0
PRODID:-//ChamberMaster//Event Calendar 2.0//EN
METHOD:PUBLISH
X-PUBLISHED-TTL:P3D
REFRESH-INTERVAL:P3D
CALSCALE:GREGORIAN
BEGIN:VEVENT
DTSTART:20260507T150000Z
DTEND:20260507T230000Z
X-MICROSOFT-CDO-ALLDAYEVENT:FALSE
SUMMARY:NSU Art Museum Free First Thursday
DESCRIPTION:FREE FIRST THURSDAY\n\nThursday\, May 7\, 2026\n\n11 am   7 pm\n\nEnjoy FREE Museum admission and 2-for-1 All Day Happy Hour on the first Thursday of every month from 11 am to 7 pm during Free First Thursday.\n\nNEW! Free public tours at Noon.\n\n\n \n\n\n\nMINI MUSE\n\n4   6:30 pm\n\nGet creative with us during Mini Muse for our free drop-in art-making project offered from 4   6:30 pm. This drop-in art-making event is open to every skill set and all ages. Grab your friends\, family\, or come alone and let your imagination run wild.\n\nMaterials are provided\, and all are welcome.
X-ALT-DESC;FMTTYPE=text/html:<div style="text-align:center">\n<div>\n<p><strong>FREE FIRST THURSDAY</strong></p>\n\n<p>Thursday\, May 7\, 2026</p>\n\n<p>11 am &ndash\; 7 pm</p>\n\n<p>Enjoy FREE Museum admission and 2-for-1 All Day Happy Hour on the first Thursday of every month from 11 am to 7 pm during Free First Thursday.</p>\n\n<p>NEW!&nbsp\;Free public tours at Noon.</p>\n</div>\n\n<div>&nbsp\;</div>\n</div>\n\n<div>\n<p style="text-align:center"><strong>MINI MUSE</strong></p>\n\n<p style="text-align:center">4 &ndash\; 6:30 pm</p>\n\n<p>Get creative with us during Mini Muse for our free drop-in art-making project offered from 4 &ndash\; 6:30 pm. This drop-in art-making event is open to every skill set and all ages. Grab your friends\, family\, or come alone and let your imagination run wild.</p>\n\n<p>Materials are provided\, and all are welcome.</p>\n</div>\n
LOCATION:One E Las Olas Blvd\, Fort Lauderdale FL 33301
UID:e.2139.43287
SEQUENCE:3
DTSTAMP:20260423T043745Z
URL:https://business.gogayfortlauderdale.com/events/details/nsu-art-museum-free-first-thursday-43287
END:VEVENT

END:VCALENDAR
