BEGIN:VCALENDAR
VERSION:2.0
PRODID:-//ChamberMaster//Event Calendar 2.0//EN
METHOD:PUBLISH
X-PUBLISHED-TTL:P3D
REFRESH-INTERVAL:P3D
CALSCALE:GREGORIAN
BEGIN:VEVENT
DTSTART:20260509T160000Z
DTEND:20260509T173000Z
X-MICROSOFT-CDO-ALLDAYEVENT:FALSE
SUMMARY:NSU Art Museum Creativity Exploration: Wander in Watercolor
DESCRIPTION:Inspired by the abstract paintings of Michelle Armas and Helen Frankenthaler\, wander through different approaches and techniques using watercolor painting and inks\, creating a colorful\, layered design. Activate play\, wonder\, and noticing through the intentional experimentation and exploration of working in watercolor.\n\nCreativity Exploration adult workshops promote the benefits of material exploration and the mind-to-body experience. "Research suggests that experiencing art and creativity\, even for a few minutes a day\, has tangible effects on our mental and physical health" (New York Times). In addition to producing a sense of well-being\, sessions expand participants' perceptions of forms\, while increasing brain connectivity through visual and cognitive stimulation. The workshop is led by educator Lark Keeler\, a specialist in mindfulness education.\n\nExtend your sense of well-being after the class by visiting our galleries and the newly redesigned Huizenga Park\, located directly across Las Olas Blvd.\n\nPreregistration Required. Space is Limited.\n\nCreativity Exploration is sponsored by the Maurer Family Foundation.\n\nVeteran discount tickets thanks to Spirit Charitable Foundation.\n\nDate of event: 5/9/2026\n\nTime: Noon   1:30 pm\n\nPricing: $15 for members and veterans\; $25 for non-members\n\nLocation: NSU Art Museum\n\nAges: 18+
X-ALT-DESC;FMTTYPE=text/html:<p>Inspired by the abstract paintings of Michelle Armas and Helen Frankenthaler\, wander through different approaches and techniques using watercolor painting and inks\, creating a colorful\, layered design. Activate play\, wonder\, and noticing through the intentional experimentation and exploration of working in watercolor.</p>\n\n<p>Creativity Exploration adult workshops promote the benefits of material exploration and the mind-to-body experience. &ldquo\;Research suggests that experiencing art and creativity\, even for a few minutes a day\, has tangible effects on our mental and physical health&rdquo\; (New York Times). In addition to producing a sense of well-being\, sessions expand participants&rsquo\; perceptions of forms\, while increasing brain connectivity through visual and cognitive stimulation. The workshop is led by educator Lark Keeler\, a specialist in mindfulness education.</p>\n\n<p>Extend your sense of well-being after the class by visiting our galleries and the newly redesigned Huizenga Park\, located directly across Las Olas Blvd.</p>\n\n<p>Preregistration Required. Space is Limited.</p>\n\n<p>Creativity Exploration is sponsored by the Maurer Family Foundation.</p>\n\n<p>Veteran discount tickets thanks to Spirit Charitable Foundation.</p>\n\n<p><strong>Date of event: 5/9/2026<br />\nTime: Noon &ndash\; 1:30 pm<br />\nPricing: $15 for members and veterans\; $25 for non-members<br />\nLocation: NSU Art Museum<br />\nAges: 18+</strong></p>\n
LOCATION:One E Las Olas Blvd.\, Fort Lauderdale FL 33301
UID:e.2139.43288
SEQUENCE:3
DTSTAMP:20260423T043817Z
URL:https://business.gogayfortlauderdale.com/events/details/nsu-art-museum-creativity-exploration-wander-in-watercolor-43288
END:VEVENT

END:VCALENDAR
