BEGIN:VCALENDAR
VERSION:2.0
PRODID:-//ChamberMaster//Event Calendar 2.0//EN
METHOD:PUBLISH
X-PUBLISHED-TTL:P3D
REFRESH-INTERVAL:P3D
CALSCALE:GREGORIAN
BEGIN:VEVENT
DTSTART:20260313T180000Z
DTEND:20260313T190000Z
X-MICROSOFT-CDO-ALLDAYEVENT:FALSE
SUMMARY:NSU Art Museum Art in Context: An Informal History of Art Series led by Ariella Wolens\, Bryant-Taylor Curator
DESCRIPTION:Join us for part two of the three-part art history course presented by Ariella Wolens\, Bryant Taylor Curator\, designed for curious learners of all backgrounds. Held on the second Friday of each month\, continuing in March and April at 2 pm\, this lecture series offers a broad and accessible journey through the history of art.\n\n\n\nEach session builds chronologically\, beginning with the foundations of art history and moving through key movements\, ideas\, and artists\, concluding with contemporary and current-day practices. Through lively discussion\, images\, and curatorial insight\, participants will gain a deeper understanding of how art reflects and shapes the world across time.\n\n\n\nNo prior art history experience is required\, just curiosity and a willingness to explore. This casual\, three-part series invites participants to learn\, ask questions\, and connect across centuries of artistic expression.\n\n\n\nAdmission is free for members\, $16 per class for non-members. Space is limited. Preregistration Required.\n\n\n\n\n\nAriella Wolens\n\n\n\nAriella Wolens is Bryant-Taylor Curator at NSU Art Museum Fort Lauderdale\, where she has organized exhibitions including Jacqueline de Jong: Vicious Circles (2024-2025)\, Walasse Ting: Parrot Jungle (2023-2024) and Cosmic Mirrors: Haitian Art Highlights from the Collection (2023-2024). Wolens received her BA in Art History from University College London and master's from Columbia University in Curating and Criticism of Modern Art. Prior to joining NSU Art Museum Fort Lauderdale\, Wolens served as Assistant Curator at SCAD Museum of Art in Savannah\, Georgia\, where she curated exhibitions of artists such as Sanford Biggers\, Ra l de Nieves\, Paulina Olowska\, Wong Ping and Rose B. Simpson. Her writings have appeared in publications such as Art in America\, Flash Art\, Gagosian Quarterly and Spike Art Magazine.\n\n\n\nImage:  douard Manet\, Le Fifre (The Fifer)\, 1866\, Oil on canvas\, 63.1 x 38.1 inches\, Mus e d'Orsay\, Paris. 01
X-ALT-DESC;FMTTYPE=text/html:Join us for part two of the three-part art history course presented by Ariella Wolens\, Bryant Taylor Curator\, designed for curious learners of all backgrounds. Held on the second Friday of each month\, continuing in March and April at 2 pm\, this lecture series offers a broad and accessible journey through the history of art.<br />\n<br />\nEach session builds chronologically\, beginning with the foundations of art history and moving through key movements\, ideas\, and artists\, concluding with contemporary and current-day practices. Through lively discussion\, images\, and curatorial insight\, participants will gain a deeper understanding of how art reflects and shapes the world across time.<br />\n<br />\nNo prior art history experience is required\, just curiosity and a willingness to explore. This casual\, three-part series invites participants to learn\, ask questions\, and connect across centuries of artistic expression.<br />\n<br />\nAdmission is free for members\, $16 per class for non-members. Space is limited. Preregistration Required.<br />\n<br />\n<br />\nAriella Wolens<br />\n<br />\nAriella Wolens is Bryant-Taylor Curator at NSU Art Museum Fort Lauderdale\, where she has organized exhibitions including Jacqueline de Jong: Vicious Circles (2024-2025)\, Walasse Ting: Parrot Jungle (2023-2024) and Cosmic Mirrors: Haitian Art Highlights from the Collection (2023-2024). Wolens received her BA in Art History from University College London and master&#39\;s from Columbia University in Curating and Criticism of Modern Art. Prior to joining NSU Art Museum Fort Lauderdale\, Wolens served as Assistant Curator at SCAD Museum of Art in Savannah\, Georgia\, where she curated exhibitions of artists such as Sanford Biggers\, Ra&uacute\;l de Nieves\, Paulina Olowska\, Wong Ping and Rose B. Simpson. Her writings have appeared in publications such as Art in America\, Flash Art\, Gagosian Quarterly and Spike Art Magazine.<br />\n<br />\nImage: &Eacute\;douard Manet\, Le Fifre (The Fifer)\, 1866\, Oil on canvas\, 63.1 x 38.1 inches\, Mus&eacute\;e d&#39\;Orsay\, Paris. 01
LOCATION:NSU Art Museum One East Las Olas Boulevard Fort Lauderdale\, FL 33301 United States
UID:e.2139.41002
SEQUENCE:3
DTSTAMP:20260423T075210Z
URL:https://business.gogayfortlauderdale.com/events/details/nsu-art-museum-art-in-context-an-informal-history-of-art-series-led-by-ariella-wolens-bryant-taylor-curator-41002
END:VEVENT

END:VCALENDAR
