BEGIN:VCALENDAR
VERSION:2.0
PRODID:-//ChamberMaster//Event Calendar 2.0//EN
METHOD:PUBLISH
X-PUBLISHED-TTL:P3D
REFRESH-INTERVAL:P3D
CALSCALE:GREGORIAN
BEGIN:VEVENT
DTSTART:20260405T153000Z
DTEND:20260405T183000Z
X-MICROSOFT-CDO-ALLDAYEVENT:FALSE
SUMMARY:Hilton Fort Lauderdale Marina Savor Easter by the Sea
DESCRIPTION:Celebrate easter with unforgettable views of the Intracoastal with Olive & Sea's take on Easter Brunch. Guests can enjoy live entertainment as well as the following:\n\n	Buffets featuring a selection of cold and hot dishes including eggs\, bacon\, sausage\, French toast\, rustic potato hash\, fresh fruits\, avocado toast and falafel\n	Freshly baked laffa bread pizzas\n	Carving stations\n	Raw bar\n	Omelet station\n	Variety of antipasto\, spreads and salads\n	Roasted salmon and branzino\, braised short rib and sliders\n	Assortment of fresh breads\, pastries and desserts\n\n \n\nThe Olive & Sea Easter Brunch is $87+ per person. Children 6-12 are $40\, and children five and under are free. Reservations are highly recommended and can be made at www.oliveandseaftl.com/reservations. Complimentary valet parking is available to all Olive & Sea guests. For more information on upcoming events\, visit oliveandseaftl.com.
X-ALT-DESC;FMTTYPE=text/html:<span style="color:black"><span style="font-size:11.0pt">Celebrate easter with unforgettable views of the Intracoastal with Olive &amp\; Sea&#39\;s take on Easter Brunch. Guests can enjoy live entertainment as well as the following:</span></span>\n<ul>\n	<li style="text-align:justify"><span style="color:black"><span style="font-size:11.0pt">Buffets featuring a selection of cold and hot dishes including eggs\, bacon\, sausage\, French toast\, rustic potato hash\, fresh fruits\, avocado toast and falafel</span></span></li>\n	<li style="text-align:justify"><span style="color:black"><span style="font-size:11.0pt">Freshly baked laffa bread pizzas</span></span></li>\n	<li style="text-align:justify"><span style="color:black"><span style="font-size:11.0pt">Carving stations</span></span></li>\n	<li style="text-align:justify"><span style="color:black"><span style="font-size:11.0pt">Raw bar</span></span></li>\n	<li style="text-align:justify"><span style="color:black"><span style="font-size:11.0pt">Omelet station</span></span></li>\n	<li style="text-align:justify"><span style="color:black"><span style="font-size:11.0pt">Variety of antipasto\, spreads and salads</span></span></li>\n	<li style="text-align:justify"><span style="color:black"><span style="font-size:11.0pt">Roasted salmon and branzino\, braised short rib and sliders</span></span></li>\n	<li style="text-align:justify"><span style="color:black"><span style="font-size:11.0pt">Assortment of fresh breads\, pastries and desserts</span></span></li>\n</ul>\n&nbsp\;<br />\n<span style="color:black"><span style="font-size:11.0pt">The Olive &amp\; Sea Easter Brunch is $87+ per person. Children 6-12 are $40\, and children five and under are free. </span></span><span style="font-size:11.0pt">Reservations are highly recommended and can be made at </span><a href="http://www.oliveandseaftl.com/reservations"><span style="font-size:11.0pt">www.oliveandseaftl.com/reservations</span></a><span style="font-size:11.0pt">. Complimentary valet parking is available to all Olive &amp\; Sea guests. For more information on upcoming events\, <span style="color:black">visit </span></span><a href="http://www.oliveandseaftl.com/"><span style="font-size:11.0pt">oliveandseaftl.com</span></a><span style="color:black"><span style="font-size:11.0pt">.</span></span>
LOCATION:Olive & Sea 1881 SE 17th Street Fort Lauderdale\, FL 33316
UID:e.2139.41000
SEQUENCE:3
DTSTAMP:20260423T044431Z
URL:https://business.gogayfortlauderdale.com/events/details/hilton-fort-lauderdale-marina-savor-easter-by-the-sea-41000
END:VEVENT

END:VCALENDAR
