BEGIN:VCALENDAR
VERSION:2.0
PRODID:-//ChamberMaster//Event Calendar 2.0//EN
METHOD:PUBLISH
X-PUBLISHED-TTL:P3D
REFRESH-INTERVAL:P3D
CALSCALE:GREGORIAN
BEGIN:VEVENT
DTSTART;VALUE=DATE:20260604
DTEND;VALUE=DATE:20260608
TRANSP:TRANSPARENT
X-MICROSOFT-CDO-ALLDAYEVENT:TRUE
SUMMARY:Florida BlaQ Out Pride Weekend | A Celebration of Black LGBTQ+ Pride
DESCRIPTION:BlaQ Out Pride Weekend is South Florida's premier Black LGBTQ+ Pride celebration a three-day cultural experience honoring the joy\, legacy\, and brilliance of Black queer and trans communities.
X-ALT-DESC;FMTTYPE=text/html:<p><strong>BlaQ Out Pride Weekend</strong><span style="background-color:transparent\; color:rgb(0\, 0\, 0)\; font-family:arial\,sans-serif\; font-size:11pt">&nbsp\;is South Florida&rsquo\;s premier Black LGBTQ+ Pride celebration&mdash\;a three-day cultural experience honoring the joy\, legacy\, and brilliance of Black queer and trans communities.</span></p>\n
LOCATION:Wilton Manors\, FL
UID:e.2139.40992
SEQUENCE:3
DTSTAMP:20260423T044432Z
URL:https://business.gogayfortlauderdale.com/events/details/florida-blaq-out-pride-weekend-a-celebration-of-black-lgbtq-pride-40992
END:VEVENT

END:VCALENDAR
