BEGIN:VCALENDAR
VERSION:2.0
PRODID:-//ChamberMaster//Event Calendar 2.0//EN
METHOD:PUBLISH
X-PUBLISHED-TTL:P3D
REFRESH-INTERVAL:P3D
CALSCALE:GREGORIAN
BEGIN:VEVENT
DTSTART:20260516T220000Z
DTEND:20260517T030000Z
X-MICROSOFT-CDO-ALLDAYEVENT:FALSE
SUMMARY:Congregation Etz Chaim Presents Joe Buchanan
DESCRIPTION:We hope to share our Jewish heritage and love of Torah by presenting a secular concert for everyone - whether you are Jewish\, Jew-ish\, or just like inspiring country music  Our weekend will culminate on Saturday night\, May 16\, 2026 at 7:00pm at The Gray Box Theater in Wilton Manors with a concert featuring an inspirational performance by Joe Buchanan\, a Texas-born recording artist whose country music is deeply rooted in Torah. Joe's unique blend of music\, spirituality\, and storytelling will create an experience filled with reflection\, joy\, and connection.\n\nPrior to the concert we will have a VIP meet and greet with light food/snacks. Following the concert will be a reception to honor Rabbi Marcia Weinstein. We will also acknowledge the winners of the silent auction   and the generous sponsors who made the auction possible. Coffee and cake will be served.
X-ALT-DESC;FMTTYPE=text/html:<div>&nbsp\;</div>\n\n<div>We hope to share our Jewish heritage and love of Torah by presenting a secular concert for everyone - whether you are Jewish\, Jew-ish\, or just like inspiring country music&hellip\; Our weekend will culminate on Saturday night\, May 16\, 2026 at 7:00pm at The Gray Box Theater in Wilton Manors with a concert featuring an inspirational performance by Joe Buchanan\, a Texas-born recording artist whose country music is deeply rooted in Torah. Joe&rsquo\;s unique blend of music\, spirituality\, and storytelling will create an experience filled with reflection\, joy\, and connection.</div>\n\n<div>Prior to the concert we will have a VIP meet and greet with light food/snacks. Following the concert will be a reception to honor Rabbi Marcia Weinstein. We will also acknowledge the winners of the silent auction &ndash\; and the generous sponsors who made the auction possible. Coffee and cake will be served.&nbsp\;</div>\n
LOCATION:Gray Box Theater
UID:e.2139.40999
SEQUENCE:3
DTSTAMP:20260423T062340Z
URL:https://business.gogayfortlauderdale.com/events/details/congregation-etz-chaim-presents-joe-buchanan-40999
END:VEVENT

END:VCALENDAR
