BEGIN:VCALENDAR
VERSION:2.0
PRODID:-//ChamberMaster//Event Calendar 2.0//EN
METHOD:PUBLISH
X-PUBLISHED-TTL:P3D
REFRESH-INTERVAL:P3D
CALSCALE:GREGORIAN
BEGIN:VEVENT
DTSTART:20260522T233000Z
DTEND:20260523T013000Z
X-MICROSOFT-CDO-ALLDAYEVENT:FALSE
SUMMARY:City of Pompano Beach (Visit Pompano Beach) Sam Barber
DESCRIPTION:Multi-platinum singer-songwriter Sam Barber captures the experience\, uncertainty\, wisdom\, and promise of coming-of-age on his 2025 EP\, Music for the Soul [Atlantic Records]. Empathetic songwriting\, eloquent instrumentation\, and a downright spirit-shaking voice brought him from a farm in Missouri to the doorstep of superstardom. Following the breakout success of his 2024 debut album\, Restless Mind\, the new EP chronicles how he got here and where he's headed next. Beyond the acclaimed immediate fan favorite "Man of the Year\," the single "Home Tonight" layers his gritty full-bodied vocals above naked acoustic guitar\, staring down unrepentant loneliness and unrequited love. The title track "Music for the Soul" wrestles with fame\, and "Same Sad Shit" addresses anxiety and depression. He wrote on every tune\, collaborating with producers Joe Becker and Ryan Hewitt at studios in Nashville\, TN\, and Bozeman\, MT. Prior\, Sam delivered the 2x RIAA Platinum certified "Straight and Narrow\," "Better Year\," and "Indigo (Feat. Avery Anna)\," gathering more than 2 billion streams to date and selling out headline tours across the globe. Now\, Music for the Soul makes good on its title.
X-ALT-DESC;FMTTYPE=text/html:<div class="mb-3" id="long-description" style="box-sizing: border-box\; font-family: Ubuntu\, sans-serif\; font-size: 16px\; margin-bottom: 1rem !important\;">\n<p style="box-sizing: border-box\; margin-top: 0px\; margin-bottom: 1rem\;">Multi-platinum singer-songwriter Sam Barber captures the experience\, uncertainty\, wisdom\, and promise of coming-of-age on his 2025 EP\, Music for the Soul [Atlantic Records]. Empathetic songwriting\, eloquent instrumentation\, and a downright spirit-shaking voice brought him from a farm in Missouri to the doorstep of superstardom. Following the breakout success of his 2024 debut album\, Restless Mind\, the new EP chronicles how he got here and where he&rsquo\;s headed next. Beyond the acclaimed immediate fan favorite &ldquo\;Man of the Year\,&rdquo\; the single &ldquo\;Home Tonight&rdquo\; layers his gritty full-bodied vocals above naked acoustic guitar\, staring down unrepentant loneliness and unrequited love. The title track &ldquo\;Music for the Soul&rdquo\; wrestles with fame\, and &ldquo\;Same Sad Shit&rdquo\; addresses anxiety and depression. He wrote on every tune\, collaborating with producers Joe Becker and Ryan Hewitt at studios in Nashville\, TN\, and Bozeman\, MT. Prior\, Sam delivered the 2x RIAA Platinum certified &ldquo\;Straight and Narrow\,&rdquo\; &ldquo\;Better Year\,&rdquo\; and &ldquo\;Indigo (Feat. Avery Anna)\,&rdquo\; gathering more than 2 billion streams to date and selling out headline tours across the globe. Now\, Music for the Soul makes good on its title.</p>\n</div>\n
LOCATION:Pompano Beach Amphitheater 1801 NE 6th Street Pompano Beach\, FL 33060
UID:e.2139.42217
SEQUENCE:3
DTSTAMP:20260420T105219Z
URL:https://business.gogayfortlauderdale.com/events/details/city-of-pompano-beach-visit-pompano-beach-sam-barber-42217
END:VEVENT

END:VCALENDAR
