BEGIN:VCALENDAR
VERSION:2.0
PRODID:-//ChamberMaster//Event Calendar 2.0//EN
METHOD:PUBLISH
X-PUBLISHED-TTL:P3D
REFRESH-INTERVAL:P3D
CALSCALE:GREGORIAN
BEGIN:VEVENT
DTSTART:20260425T150000Z
DTEND:20260425T210000Z
X-MICROSOFT-CDO-ALLDAYEVENT:FALSE
SUMMARY:City of Pompano Beach (Visit Pompano Beach) Our Voices Festival of Words
DESCRIPTION:The festival showcases local writers\, creatives\, and world-renowned artists coming together to celebrate the power of literacy and literature.\n\n\n\nWhose Story Is It?\n\n\n\nPanel Discussion with Local Journalists\n\nRaisa Habersham ( Miami Herald)\n\nCarlton Gillispie (WLRN)\n\nNile Fortner (Independent Journalist)\n\nBring your blankets and chairs\, and come by any time from 11 a.m. to 5 p.m. to enjoy:\n\n\n\nLive Performances\, Interactive Workshops\, Panel Discussions\, Film Screenings\, Children's Village\, Small Business Market\, Free Books\, Food\, & Beverages.\n\n\n\n\n\nGuest line-ups:\n\n\n\n  aja monet\n\n\n\n  Richard Blanco\n\n\n\n  Fabienne Josaphat\n\n\n\n  Miami Sound Choir\n\n\n\n  Wilkine Brutus
X-ALT-DESC;FMTTYPE=text/html:The festival showcases local writers\, creatives\, and world-renowned artists coming together to celebrate the power of literacy and literature.<br />\n<br />\nWhose Story Is It?<br />\n<br />\nPanel Discussion with Local Journalists<br />\nRaisa Habersham ( Miami Herald)<br />\nCarlton Gillispie (WLRN)<br />\nNile Fortner (Independent Journalist)<br />\nBring your blankets and chairs\, and come by any time from 11 a.m. to 5 p.m. to enjoy:<br />\n<br />\nLive Performances\, Interactive Workshops\, Panel Discussions\, Film Screenings\, Children&rsquo\;s Village\, Small Business Market\, Free Books\, Food\, &amp\; Beverages.<br />\n<br />\n<br />\nGuest line-ups:<br />\n<br />\n&bull\; aja monet<br />\n<br />\n&bull\; Richard Blanco<br />\n<br />\n&bull\; Fabienne Josaphat<br />\n<br />\n&bull\; Miami Sound Choir<br />\n<br />\n&bull\; Wilkine Brutus<br />\n<br />\n&nbsp\;
LOCATION:Ali Cultural Arts Center\, 353 Dr. Martin Luther King\, Jr. Boulevard\, Pompano Beach\, FL 33060
UID:e.2139.43283
SEQUENCE:3
DTSTAMP:20260420T090507Z
URL:https://business.gogayfortlauderdale.com/events/details/city-of-pompano-beach-visit-pompano-beach-our-voices-festival-of-words-43283
END:VEVENT

END:VCALENDAR
