BEGIN:VCALENDAR
VERSION:2.0
PRODID:-//ChamberMaster//Event Calendar 2.0//EN
METHOD:PUBLISH
X-PUBLISHED-TTL:P3D
REFRESH-INTERVAL:P3D
CALSCALE:GREGORIAN
BEGIN:VEVENT
DTSTART:20260516T210000Z
DTEND:20260517T000000Z
X-MICROSOFT-CDO-ALLDAYEVENT:FALSE
SUMMARY:City of Pompano Beach (Visit Pompano Beach) Iration
DESCRIPTION:Iration has a natural affinity for reggae and island sounds. Their love and appreciation for music spans across a wide range of styles and genres including rock\, pop\, R&B and funk. Over the past 15 years\, the celebrated five-piece - Micah Pueschel [Lead Vocals / Guitar]\, Adam Taylor [Bass]\, Joe Dickens [Drums]\, Cayson Peterson [Keyboard / Synth] and Micah Brown [Guitar / Vocals]   have perfected their distinct hybrid style of music\, blending all influences together as evidenced on their seventh\, and most recent\, full-length album Coastin' [Three Prong Records). A record about being thankful for the moments that we have.\n\n\n\nIration has been touring nationally since 2008\, performing at festivals nationwide from Lollapalooza to Sunfest and Hangout\, closing stages at festivals like Bottlerock and Outside Lands. The Hawaiian-bred musicians look forward to spreading their original sound and 'Aloha spirit' all the while never forgetting to get a surf in when possible.
X-ALT-DESC;FMTTYPE=text/html:<br />\nIration has a natural affinity for reggae and island sounds. Their love and appreciation for music spans across a wide range of styles and genres including rock\, pop\, R&amp\;B and funk. Over the past 15 years\, the celebrated five-piece - Micah Pueschel [Lead Vocals / Guitar]\, Adam Taylor [Bass]\, Joe Dickens [Drums]\, Cayson Peterson [Keyboard / Synth] and Micah Brown [Guitar / Vocals] &ndash\; have perfected their distinct hybrid style of music\, blending all influences together as evidenced on their seventh\, and most recent\, full-length album Coastin&rsquo\; [Three Prong Records). A record about being thankful for the moments that we have.<br />\n<br />\nIration has been touring nationally since 2008\, performing at festivals nationwide from Lollapalooza to Sunfest and Hangout\, closing stages at festivals like Bottlerock and Outside Lands. The Hawaiian-bred musicians look forward to spreading their original sound and &#39\;Aloha spirit&#39\; all the while never forgetting to get a surf in when possible.
LOCATION:Pompano Beach Amphitheater\, 1801 NE 6th Street\, Pompano Beach\, FL 33060
UID:e.2139.43277
SEQUENCE:3
DTSTAMP:20260420T105212Z
URL:https://business.gogayfortlauderdale.com/events/details/city-of-pompano-beach-visit-pompano-beach-iration-43277
END:VEVENT

END:VCALENDAR
