BEGIN:VCALENDAR
VERSION:2.0
PRODID:-//ChamberMaster//Event Calendar 2.0//EN
METHOD:PUBLISH
X-PUBLISHED-TTL:P3D
REFRESH-INTERVAL:P3D
CALSCALE:GREGORIAN
BEGIN:VEVENT
DTSTART:20260527T233000Z
DTEND:20260528T013000Z
X-MICROSOFT-CDO-ALLDAYEVENT:FALSE
SUMMARY:City of Pompano Beach (Visit Pompano Beach) Happy Together
DESCRIPTION:2026 will mark the 17th year of the highly successful\, hit-filled summer package\, THE "HAPPY TOGETHER" TOUR. The touring sensation that has crisscrossed the nation delighting audiences for over a decade and a half returns this summer with a show full of chart-topping hits from the '60s and '70s   an undeniable 60+ BILLBOARD Top 40 smashes. The Tour is once again joined by THE ASSOCIATION\, THE TROGGS\, CHICAGO lead singer 1985-2016 JASON SCHEFF\, GARY PUCKETT\, RON DANTE from The Archies and The Turtles\, THE VOGUES and THE COWSILLS.\n\n\n\nJoining THE "HAPPY TOGETHER" TOUR 2026 are THE ASSOCIATION\, who enjoyed massive radio success in the '60s\, with such #1 hits as "Cherish\," "Windy\," "Never My Love" and "Along Comes Mary". This iconic vocal group was a staple on the radio airways in the 1960's.
X-ALT-DESC;FMTTYPE=text/html:<br />\n2026 will mark the 17th year of the highly successful\, hit-filled summer package\, THE &ldquo\;HAPPY TOGETHER&rdquo\; TOUR. The touring sensation that has crisscrossed the nation delighting audiences for over a decade and a half returns this summer with a show full of chart-topping hits from the &lsquo\;60s and &lsquo\;70s &ndash\; an undeniable 60+ BILLBOARD Top 40 smashes. The Tour is once again joined by THE ASSOCIATION\, THE TROGGS\, CHICAGO lead singer 1985-2016 JASON SCHEFF\, GARY PUCKETT\, RON DANTE from The Archies and The Turtles\, THE VOGUES and THE COWSILLS.<br />\n<br />\nJoining THE &ldquo\;HAPPY TOGETHER&rdquo\; TOUR 2026 are THE ASSOCIATION\, who enjoyed massive radio success in the &lsquo\;60s\, with such #1 hits as &ldquo\;Cherish\,&rdquo\; &ldquo\;Windy\,&rdquo\; &ldquo\;Never My Love&rdquo\; and &ldquo\;Along Comes Mary&rdquo\;. This iconic vocal group was a staple on the radio airways in the 1960&rsquo\;s.
LOCATION:Pompano Beach Amphitheater\, 1801 NE 6th Street\, Pompano Beach\, FL 33060
UID:e.2139.41213
SEQUENCE:3
DTSTAMP:20260420T105701Z
URL:https://business.gogayfortlauderdale.com/events/details/city-of-pompano-beach-visit-pompano-beach-happy-together-41213
END:VEVENT

END:VCALENDAR
