BEGIN:VCALENDAR
VERSION:2.0
PRODID:-//ChamberMaster//Event Calendar 2.0//EN
METHOD:PUBLISH
X-PUBLISHED-TTL:P3D
REFRESH-INTERVAL:P3D
CALSCALE:GREGORIAN
BEGIN:VEVENT
DTSTART:20260509T180000Z
DTEND:20260509T210000Z
X-MICROSOFT-CDO-ALLDAYEVENT:FALSE
SUMMARY:City of Pompano Beach (Visit Pompano Beach) Figure Drawing Class
DESCRIPTION:Figure Drawing Intensive   Master the Human Form. Every 2nd and 4th Saturday!\n\nJoin this workshop to strengthen your figure drawing skills through guided instruction and live model practice. Each class begins with a focused lesson on anatomy\, proportion\, light and shadow\, followed by two hours of drawing with male and female models.\n\nExplore key areas like gesture\, structure\, musculature\, foreshortening\, and portraiture\, while developing your own unique style. The final session features a long pose and group critique to track your progress.\n\nOpen to all skill levels. Charcoal and graphite encouraged other media welcome.\n\n\n\n \n\nHappens on the following Dates:\n\n\n	Apr 11\, 2026\, 2:00pm to 5:00pm Timezone: Eastern Time (US & Canada)\n	Apr 25\, 2026\, 2:00pm to 5:00pm Timezone: Eastern Time (US & Canada)\n	May 9\, 2026\, 2:00pm to 5:00pm Timezone: Eastern Time (US & Canada)\n	May 23\, 2026\, 2:00pm to 5:00pm Timezone: Eastern Time (US & Canada)\n	Jun 13\, 2026\, 2:00pm to 5:00pm Timezone: Eastern Time (US & Canada)\n	Jun 27\, 2026\, 2:00pm to 5:00pm Timezone: Eastern Time (US & Canada)\n	Jul 11\, 2026\, 2:00pm to 5:00pm Timezone: Eastern Time (US & Canada)\n	Jul 25\, 2026\, 2:00pm to 5:00pm Timezone: Eastern Time (US & Canada)\n	Aug 8\, 2026\, 2:00pm to 5:00pm Timezone: Eastern Time (US & Canada)\n	Aug 22\, 2026\, 2:00pm to 5:00pm Timezone: Eastern Time (US & Canada)\n	Sep 12\, 2026\, 2:00pm to 5:00pm Timezone: Eastern Time (US & Canada)\n	Sep 26\, 2026\, 2:00pm to 5:00pm Timezone: Eastern Time (US & Canada)
X-ALT-DESC;FMTTYPE=text/html:<p>Figure Drawing Intensive &ndash\; Master the Human Form. Every 2nd and 4th Saturday!</p>\n\n<p>Join this workshop to strengthen your figure drawing skills through guided instruction and live model practice. Each class begins with a focused lesson on anatomy\, proportion\, light and shadow\, followed by two hours of drawing with male and female models.</p>\n\n<p>Explore key areas like gesture\, structure\, musculature\, foreshortening\, and portraiture\, while developing your own unique style. The final session features a long pose and group critique to track your progress.</p>\n\n<p>Open to all skill levels. Charcoal and graphite encouraged&mdash\;other media welcome.<br />\n<br />\n&nbsp\;</p>\n\n<div>Happens on the following Dates:</div>\n\n<ul>\n	<li>Apr 11\, 2026\, 2:00pm to 5:00pm Timezone: Eastern Time (US &amp\; Canada)</li>\n	<li>Apr 25\, 2026\, 2:00pm to 5:00pm Timezone: Eastern Time (US &amp\; Canada)</li>\n	<li>May 9\, 2026\, 2:00pm to 5:00pm Timezone: Eastern Time (US &amp\; Canada)</li>\n	<li>May 23\, 2026\, 2:00pm to 5:00pm Timezone: Eastern Time (US &amp\; Canada)</li>\n	<li>Jun 13\, 2026\, 2:00pm to 5:00pm Timezone: Eastern Time (US &amp\; Canada)</li>\n	<li>Jun 27\, 2026\, 2:00pm to 5:00pm Timezone: Eastern Time (US &amp\; Canada)</li>\n	<li>Jul 11\, 2026\, 2:00pm to 5:00pm Timezone: Eastern Time (US &amp\; Canada)</li>\n	<li>Jul 25\, 2026\, 2:00pm to 5:00pm Timezone: Eastern Time (US &amp\; Canada)</li>\n	<li>Aug 8\, 2026\, 2:00pm to 5:00pm Timezone: Eastern Time (US &amp\; Canada)</li>\n	<li>Aug 22\, 2026\, 2:00pm to 5:00pm Timezone: Eastern Time (US &amp\; Canada)</li>\n	<li>Sep 12\, 2026\, 2:00pm to 5:00pm Timezone: Eastern Time (US &amp\; Canada)</li>\n	<li>Sep 26\, 2026\, 2:00pm to 5:00pm Timezone: Eastern Time (US &amp\; Canada)</li>\n</ul>\n
LOCATION:Bailey Contemporary Arts Center 41 Northeast 1st Street Pompano Beach\, FL 33060
UID:e.2139.42269
SEQUENCE:3
DTSTAMP:20260420T105326Z
URL:https://business.gogayfortlauderdale.com/events/details/city-of-pompano-beach-visit-pompano-beach-figure-drawing-class-42269
END:VEVENT

END:VCALENDAR
