BEGIN:VCALENDAR
VERSION:2.0
PRODID:-//ChamberMaster//Event Calendar 2.0//EN
METHOD:PUBLISH
X-PUBLISHED-TTL:P3D
REFRESH-INTERVAL:P3D
CALSCALE:GREGORIAN
BEGIN:VEVENT
DTSTART:20260502T233000Z
DTEND:20260503T020000Z
X-MICROSOFT-CDO-ALLDAYEVENT:FALSE
SUMMARY:City of Pompano Beach (Visit Pompano Beach) Bee Gees Tribute Show
DESCRIPTION:Get ready to Stay Alive with an electrifying night of disco and harmony as we bring the legendary sound of the Bee Gees to life! From Night Fever to How Deep Is Your Love\, experience all the hits with spot-on vocals and high-energy performances. Don't miss this unforgettable tribute to one of the greatest groups of all time!\n\n\n\nPlease note: Arts Center Management has privately leased the facility. This production is not presented or produced by City of Pompano Beach Cultural Center.
X-ALT-DESC;FMTTYPE=text/html:Get ready to Stay Alive with an electrifying night of disco and harmony as we bring the legendary sound of the Bee Gees to life! From Night Fever to How Deep Is Your Love\, experience all the hits with spot-on vocals and high-energy performances. Don&rsquo\;t miss this unforgettable tribute to one of the greatest groups of all time!<br />\n<br />\nPlease note: Arts Center Management has privately leased the facility. This production is not presented or produced by City of Pompano Beach Cultural Center.
LOCATION:Pompano Beach Cultural Center 50 West Atlantic Boulevard Suite 1 Pompano Beach\, FL 33060
UID:e.2139.43278
SEQUENCE:3
DTSTAMP:20260420T104741Z
URL:https://business.gogayfortlauderdale.com/events/details/bee-gees-tribute-show-43278
END:VEVENT

END:VCALENDAR
