BEGIN:VCALENDAR
VERSION:2.0
PRODID:-//ChamberMaster//Event Calendar 2.0//EN
METHOD:PUBLISH
X-PUBLISHED-TTL:P3D
REFRESH-INTERVAL:P3D
CALSCALE:GREGORIAN
BEGIN:VEVENT
DTSTART:20260122T233000Z
DTEND:20260123T010000Z
X-MICROSOFT-CDO-ALLDAYEVENT:FALSE
SUMMARY:AMERICAN TEENAGER\; How Trans Kids Are Surviving Hate and Finding Joy in a Turbulent Era
DESCRIPTION:From an award-winning journalist comes a vivid and moving portrait of trans and nonbinary teenagers across the country\, following their daily triumphs\, struggles\, and all that encompasses growing up trans in America today.\n\n\n\n"American Teenager is an incredibly important\, humane account of the joys and struggles of\n\nso many youth currently under attack in our country. I pray this book will one day be seen\n\nas a historical work that sheds light in a dark world and that Lang's message of love and\n\nacceptance becomes the story we carry forward into the future."\n\n GARRARD CONLEY\, author of Boy Erased: A Memoir\n\n\n\n"Lang weaves this broad bleak terrain with warm insights and a clear immediacy of\n\nmessage. Expansive and compassionate."\n\n?GABE DUNN\, New York Times bestselling coauthor of I Hate Everyone But You\n\n\n\nAMERICAN TEENAGER\n\nHow Trans Kids Are Surviving Hate and\n\nFinding Joy in a Turbulent Era\n\nby Nico Lang
X-ALT-DESC;FMTTYPE=text/html:From an award-winning journalist comes a vivid and moving portrait of trans and nonbinary teenagers across the country\, following their daily triumphs\, struggles\, and all that encompasses growing up trans in America today.<br />\n<br />\n&ldquo\;American Teenager is an incredibly important\, humane account of the joys and struggles of<br />\nso many youth currently under attack in our country. I pray this book will one day be seen<br />\nas a historical work that sheds light in a dark world and that Lang&rsquo\;s message of love and<br />\nacceptance becomes the story we carry forward into the future.&rdquo\;<br />\n&mdash\;GARRARD CONLEY\, author of Boy Erased: A Memoir<br />\n<br />\n&ldquo\;Lang weaves this broad bleak terrain with warm insights and a clear immediacy of<br />\nmessage. Expansive and compassionate.&rdquo\;<br />\n?GABE DUNN\, New York Times bestselling coauthor of I Hate Everyone But You<br />\n<br />\n<strong>AMERICAN TEENAGER</strong><br />\nHow Trans Kids Are Surviving Hate and<br />\nFinding Joy in a Turbulent Era<br />\n<strong>by Nico Lang</strong>
LOCATION:Sunshine Cathedral MCC 1480 SW 9th Ave Fort Lauderdale\, Florida
UID:e.2139.40990
SEQUENCE:3
DTSTAMP:20260423T132359Z
URL:https://business.gogayfortlauderdale.com/events/details/american-teenager-how-trans-kids-are-surviving-hate-and-finding-joy-in-a-turbulent-era-40990
END:VEVENT

END:VCALENDAR
